Package: SubCellBarCode Version: 1.26.0 Command: /Library/Frameworks/R.framework/Resources/bin/R CMD INSTALL SubCellBarCode StartedAt: 2025-11-09 15:09:03 -0500 (Sun, 09 Nov 2025) EndedAt: 2025-11-09 15:09:12 -0500 (Sun, 09 Nov 2025) EllapsedTime: 9.7 seconds RetCode: 0 Status: OK