Package: SubCellBarCode Version: 1.26.0 Maintainer: Taner Arslan MaintainerEmail: taner.arslan at ki.se git_url: https://git.bioconductor.org/packages/SubCellBarCode git_branch: RELEASE_3_22 git_last_commit: 97a1a22 git_last_commit_date: 2025-10-29 10:52:15 -0500 (Wed, 29 Oct 2025)