Package: StructuralVariantAnnotation Version: 1.26.0 Command: /home/biocbuild/bbs-3.22-bioc/R/bin/R CMD INSTALL StructuralVariantAnnotation StartedAt: 2025-11-10 15:57:25 -0500 (Mon, 10 Nov 2025) EndedAt: 2025-11-10 15:58:05 -0500 (Mon, 10 Nov 2025) EllapsedTime: 39.9 seconds RetCode: 0 Status: OK