Package: StructuralVariantAnnotation Version: 1.26.0 Command: /home/biocbuild/bbs-3.22-bioc/R/bin/R CMD check --install=check:StructuralVariantAnnotation.install-out.txt --library=/home/biocbuild/bbs-3.22-bioc/R/site-library --timings StructuralVariantAnnotation_1.26.0.tar.gz StartedAt: 2025-11-11 04:51:24 -0500 (Tue, 11 Nov 2025) EndedAt: 2025-11-11 04:59:35 -0500 (Tue, 11 Nov 2025) EllapsedTime: 491.4 seconds RetCode: 0 Status: OK CheckDir: StructuralVariantAnnotation.Rcheck Warnings: 0