Package: Streamer Version: 1.55.1 Command: chmod a+r Streamer -R && F:\biocbuild\bbs-3.22-bioc\R\bin\R.exe CMD build --keep-empty-dirs --no-resave-data Streamer StartedAt: 2025-08-14 23:37:05 -0400 (Thu, 14 Aug 2025) EndedAt: 2025-08-14 23:37:41 -0400 (Thu, 14 Aug 2025) EllapsedTime: 35.4 seconds RetCode: 0 Status: OK PackageFile: Streamer_1.55.1.tar.gz PackageFileSize: 134.8 KiB