Package: Streamer Version: 1.55.1 Command: rm -rf Streamer.buildbin-libdir && mkdir Streamer.buildbin-libdir && F:\biocbuild\bbs-3.22-bioc\R\bin\R.exe CMD INSTALL --build --library=Streamer.buildbin-libdir Streamer_1.55.1.tar.gz StartedAt: 2025-08-15 11:26:16 -0400 (Fri, 15 Aug 2025) EndedAt: 2025-08-15 11:26:59 -0400 (Fri, 15 Aug 2025) EllapsedTime: 43.6 seconds RetCode: 0 Status: OK PackageFile: Streamer_1.55.1.zip PackageFileSize: 556.3 KiB