Package: Streamer Version: 1.56.0 Command: /home/biocbuild/bbs-3.22-bioc/R/bin/R CMD build --keep-empty-dirs --no-resave-data --md5 Streamer StartedAt: 2025-11-17 23:49:44 -0500 (Mon, 17 Nov 2025) EndedAt: 2025-11-17 23:50:02 -0500 (Mon, 17 Nov 2025) EllapsedTime: 18.0 seconds RetCode: 0 Status: OK PackageFile: Streamer_1.56.0.tar.gz PackageFileSize: 135.8 KiB