Package: Streamer Version: 1.56.0 Command: /Library/Frameworks/R.framework/Resources/bin/R CMD INSTALL Streamer StartedAt: 2025-11-03 15:20:41 -0500 (Mon, 03 Nov 2025) EndedAt: 2025-11-03 15:20:57 -0500 (Mon, 03 Nov 2025) EllapsedTime: 15.9 seconds RetCode: 0 Status: OK