Package: Streamer Version: 1.56.0 Command: rm -rf Streamer.buildbin-libdir && mkdir Streamer.buildbin-libdir && /Users/biocbuild/BBS/utils/build-universal.sh Streamer_1.56.0.tar.gz /Library/Frameworks/R.framework/Resources/bin/R Streamer.buildbin-libdir StartedAt: 2025-11-04 02:07:21 -0500 (Tue, 04 Nov 2025) EndedAt: 2025-11-04 02:07:33 -0500 (Tue, 04 Nov 2025) EllapsedTime: 12.8 seconds RetCode: 0 Status: OK PackageFile: Streamer_1.56.0.tgz PackageFileSize: 551.5 KiB