Package: Statial Version: 1.10.3 Command: /home/biocbuild/bbs-3.21-bioc/R/bin/R CMD build --keep-empty-dirs --no-resave-data Statial StartedAt: 2025-10-15 20:10:32 -0400 (Wed, 15 Oct 2025) EndedAt: 2025-10-15 20:19:50 -0400 (Wed, 15 Oct 2025) EllapsedTime: 558.0 seconds RetCode: 0 Status: OK PackageFile: Statial_1.10.3.tar.gz PackageFileSize: 9.228 MiB