Package: SpotClean Version: 1.10.0 Command: /Library/Frameworks/R.framework/Resources/bin/R CMD build --keep-empty-dirs --no-resave-data SpotClean StartedAt: 2025-10-13 22:58:25 -0400 (Mon, 13 Oct 2025) EndedAt: 2025-10-13 23:03:41 -0400 (Mon, 13 Oct 2025) EllapsedTime: 316.7 seconds RetCode: 0 Status: OK PackageFile: SpotClean_1.10.0.tar.gz PackageFileSize: 4.385 MiB