Package: SpotClean Version: 1.10.0 Command: /Library/Frameworks/R.framework/Resources/bin/R CMD check --install=check:SpotClean.install-out.txt --library=/Library/Frameworks/R.framework/Resources/library --no-vignettes --timings SpotClean_1.10.0.tar.gz StartedAt: 2025-04-21 23:51:01 -0400 (Mon, 21 Apr 2025) EndedAt: 2025-04-22 00:01:03 -0400 (Tue, 22 Apr 2025) EllapsedTime: 602.4 seconds RetCode: 0 Status: OK CheckDir: SpotClean.Rcheck Warnings: 0