Package: SpotClean Version: 1.10.0 Command: /home/biocbuild/R/R/bin/R CMD build --keep-empty-dirs --no-resave-data SpotClean StartedAt: 2025-10-14 05:04:51 -0000 (Tue, 14 Oct 2025) EndedAt: 2025-10-14 05:12:44 -0000 (Tue, 14 Oct 2025) EllapsedTime: 473.2 seconds RetCode: 0 Status: OK PackageFile: SpotClean_1.10.0.tar.gz PackageFileSize: 3.993 MiB