Package: SplineDV Version: 1.0.0 Command: chmod a+r SplineDV -R && E:\biocbuild\bbs-3.21-bioc\R\bin\R.exe CMD build --keep-empty-dirs --no-resave-data SplineDV StartedAt: 2025-08-14 22:28:26 -0400 (Thu, 14 Aug 2025) EndedAt: 2025-08-14 22:32:35 -0400 (Thu, 14 Aug 2025) EllapsedTime: 248.0 seconds RetCode: 0 Status: OK PackageFile: SplineDV_1.0.0.tar.gz PackageFileSize: 2.377 MiB