Package: SplineDV Version: 1.0.0 Command: /Library/Frameworks/R.framework/Resources/bin/R CMD build --keep-empty-dirs --no-resave-data SplineDV StartedAt: 2025-10-13 22:57:26 -0400 (Mon, 13 Oct 2025) EndedAt: 2025-10-13 23:02:52 -0400 (Mon, 13 Oct 2025) EllapsedTime: 326.5 seconds RetCode: 0 Status: OK PackageFile: SplineDV_1.0.0.tar.gz PackageFileSize: 2.377 MiB