Package: SplicingGraphs Version: 1.48.0 Command: /home/biocbuild/bbs-3.21-bioc/R/bin/R CMD INSTALL SplicingGraphs StartedAt: 2025-10-15 15:38:10 -0400 (Wed, 15 Oct 2025) EndedAt: 2025-10-15 15:38:51 -0400 (Wed, 15 Oct 2025) EllapsedTime: 41.1 seconds RetCode: 0 Status: OK