Package: SplicingGraphs Version: 1.48.0 Command: /home/biocbuild/bbs-3.21-bioc/R/bin/R CMD build --keep-empty-dirs --no-resave-data SplicingGraphs StartedAt: 2025-10-15 20:06:25 -0400 (Wed, 15 Oct 2025) EndedAt: 2025-10-15 20:08:50 -0400 (Wed, 15 Oct 2025) EllapsedTime: 145.1 seconds RetCode: 0 Status: OK PackageFile: SplicingGraphs_1.48.0.tar.gz PackageFileSize: 46.1 MiB