Package: SplicingGraphs Version: 1.48.0 Command: /Library/Frameworks/R.framework/Resources/bin/R CMD check --install=check:SplicingGraphs.install-out.txt --library=/Library/Frameworks/R.framework/Resources/library --no-vignettes --timings SplicingGraphs_1.48.0.tar.gz StartedAt: 2025-10-14 11:01:52 -0400 (Tue, 14 Oct 2025) EndedAt: 2025-10-14 11:16:37 -0400 (Tue, 14 Oct 2025) EllapsedTime: 884.5 seconds RetCode: 0 Status: WARNINGS CheckDir: SplicingGraphs.Rcheck Warnings: 2