Package: SpectriPy Version: 1.0.0 Command: /Library/Frameworks/R.framework/Resources/bin/R CMD INSTALL SpectriPy StartedAt: 2025-11-09 15:10:21 -0500 (Sun, 09 Nov 2025) EndedAt: 2025-11-09 15:10:29 -0500 (Sun, 09 Nov 2025) EllapsedTime: 8.1 seconds RetCode: 1 Status: ERROR