Package: Spectra Version: 1.18.2 Command: chmod a+r Spectra -R && E:\biocbuild\bbs-3.21-bioc\R\bin\R.exe CMD build --keep-empty-dirs --no-resave-data Spectra StartedAt: 2025-08-14 22:26:33 -0400 (Thu, 14 Aug 2025) EndedAt: 2025-08-14 22:28:37 -0400 (Thu, 14 Aug 2025) EllapsedTime: 124.9 seconds RetCode: 0 Status: OK PackageFile: Spectra_1.18.2.tar.gz PackageFileSize: 1.403 MiB