Package: Spectra Version: 1.18.2 Command: /Library/Frameworks/R.framework/Resources/bin/R CMD build --keep-empty-dirs --no-resave-data Spectra StartedAt: 2025-10-13 22:55:25 -0400 (Mon, 13 Oct 2025) EndedAt: 2025-10-13 22:57:31 -0400 (Mon, 13 Oct 2025) EllapsedTime: 125.8 seconds RetCode: 0 Status: OK PackageFile: Spectra_1.18.2.tar.gz PackageFileSize: 1.515 MiB