Package: SpeCond Version: 1.64.0 Command: /home/biocbuild/bbs-3.22-bioc/R/bin/R CMD INSTALL SpeCond StartedAt: 2025-11-10 15:18:34 -0500 (Mon, 10 Nov 2025) EndedAt: 2025-11-10 15:18:44 -0500 (Mon, 10 Nov 2025) EllapsedTime: 9.8 seconds RetCode: 0 Status: OK