Package: SpeCond Version: 1.62.0 Command: /home/biocbuild/bbs-3.21-bioc/R/bin/R CMD INSTALL SpeCond StartedAt: 2025-10-08 15:13:30 -0400 (Wed, 08 Oct 2025) EndedAt: 2025-10-08 15:13:36 -0400 (Wed, 08 Oct 2025) EllapsedTime: 6.5 seconds RetCode: 0 Status: OK