Package: SpeCond Version: 1.62.0 Command: /home/biocbuild/bbs-3.21-bioc/R/bin/R CMD check --install=check:SpeCond.install-out.txt --library=/home/biocbuild/bbs-3.21-bioc/R/site-library --timings SpeCond_1.62.0.tar.gz StartedAt: 2025-10-09 03:48:33 -0400 (Thu, 09 Oct 2025) EndedAt: 2025-10-09 03:50:22 -0400 (Thu, 09 Oct 2025) EllapsedTime: 108.2 seconds RetCode: 0 Status: OK CheckDir: SpeCond.Rcheck Warnings: 0