Package: SpatialOmicsOverlay Version: 1.8.1 Command: /Library/Frameworks/R.framework/Resources/bin/R CMD check --install=check:SpatialOmicsOverlay.install-out.txt --library=/Library/Frameworks/R.framework/Resources/library --no-vignettes --timings SpatialOmicsOverlay_1.8.1.tar.gz StartedAt: 2025-10-14 10:51:59 -0400 (Tue, 14 Oct 2025) EndedAt: 2025-10-14 11:09:20 -0400 (Tue, 14 Oct 2025) EllapsedTime: 1041.2 seconds RetCode: 0 Status: OK CheckDir: SpatialOmicsOverlay.Rcheck Warnings: 0