Package: SpatialFeatureExperiment Version: 1.11.1 Command: /home/biocbuild/R/R/bin/R CMD check --install=check:SpatialFeatureExperiment.install-out.txt --library=/home/biocbuild/R/R/site-library --no-vignettes --timings SpatialFeatureExperiment_1.11.1.tar.gz StartedAt: 2025-10-07 12:24:16 -0000 (Tue, 07 Oct 2025) EndedAt: 2025-10-07 12:57:24 -0000 (Tue, 07 Oct 2025) EllapsedTime: 1988.0 seconds RetCode: 1 Status: ERROR CheckDir: SpatialFeatureExperiment.Rcheck Warnings: NA