Package: SpatialExperiment Version: 1.19.1 Command: /home/biocbuild/R/R/bin/R CMD INSTALL SpatialExperiment StartedAt: 2025-10-23 20:39:52 -0000 (Thu, 23 Oct 2025) EndedAt: 2025-10-23 20:40:24 -0000 (Thu, 23 Oct 2025) EllapsedTime: 32.1 seconds RetCode: 0 Status: OK