Package: SpatialDecon Version: 1.18.0 Command: /home/biocbuild/bbs-3.21-bioc/R/bin/R CMD INSTALL SpatialDecon StartedAt: 2025-10-15 15:59:58 -0400 (Wed, 15 Oct 2025) EndedAt: 2025-10-15 16:00:22 -0400 (Wed, 15 Oct 2025) EllapsedTime: 24.3 seconds RetCode: 0 Status: OK