Package: SpatialDecon Version: 1.18.0 Command: /home/biocbuild/bbs-3.21-bioc/R/bin/R CMD check --install=check:SpatialDecon.install-out.txt --library=/home/biocbuild/bbs-3.21-bioc/R/site-library --timings SpatialDecon_1.18.0.tar.gz StartedAt: 2025-10-16 03:52:22 -0400 (Thu, 16 Oct 2025) EndedAt: 2025-10-16 04:03:43 -0400 (Thu, 16 Oct 2025) EllapsedTime: 680.8 seconds RetCode: 0 Status: OK CheckDir: SpatialDecon.Rcheck Warnings: 0