Package: SpatialDecon Version: 1.18.0 Command: /Library/Frameworks/R.framework/Resources/bin/R CMD build --keep-empty-dirs --no-resave-data SpatialDecon StartedAt: 2025-10-13 22:51:53 -0400 (Mon, 13 Oct 2025) EndedAt: 2025-10-13 22:57:37 -0400 (Mon, 13 Oct 2025) EllapsedTime: 344.1 seconds RetCode: 0 Status: OK PackageFile: SpatialDecon_1.18.0.tar.gz PackageFileSize: 5.277 MiB