Package: SpatialDecon Version: 1.18.0 Command: rm -rf SpatialDecon.buildbin-libdir && mkdir SpatialDecon.buildbin-libdir && /Users/biocbuild/BBS/utils/build-universal.sh SpatialDecon_1.18.0.tar.gz /Library/Frameworks/R.framework/Resources/bin/R SpatialDecon.buildbin-libdir StartedAt: 2025-10-14 14:51:21 -0400 (Tue, 14 Oct 2025) EndedAt: 2025-10-14 14:52:24 -0400 (Tue, 14 Oct 2025) EllapsedTime: 63.5 seconds RetCode: 0 Status: OK PackageFile: SpatialDecon_1.18.0.tgz PackageFileSize: 4.29 MiB