Package: SpatialDecon Version: 1.18.0 Command: /home/biocbuild/R/R/bin/R CMD INSTALL SpatialDecon StartedAt: 2025-10-13 21:19:40 -0000 (Mon, 13 Oct 2025) EndedAt: 2025-10-13 21:20:16 -0000 (Mon, 13 Oct 2025) EllapsedTime: 35.3 seconds RetCode: 0 Status: OK