Package: SpatialDecon Version: 1.18.0 Command: /Library/Frameworks/R.framework/Resources/bin/R CMD INSTALL SpatialDecon StartedAt: 2025-10-13 18:38:18 -0400 (Mon, 13 Oct 2025) EndedAt: 2025-10-13 18:38:47 -0400 (Mon, 13 Oct 2025) EllapsedTime: 28.8 seconds RetCode: 0 Status: OK