Package: SpatialDecon Version: 1.18.0 Command: rm -rf SpatialDecon.buildbin-libdir && mkdir SpatialDecon.buildbin-libdir && /Users/biocbuild/BBS/utils/build-universal.sh SpatialDecon_1.18.0.tar.gz /Library/Frameworks/R.framework/Resources/bin/R SpatialDecon.buildbin-libdir StartedAt: 2025-10-15 20:38:34 -0400 (Wed, 15 Oct 2025) EndedAt: 2025-10-15 20:39:06 -0400 (Wed, 15 Oct 2025) EllapsedTime: 31.9 seconds RetCode: 0 Status: OK PackageFile: SpatialDecon_1.18.0.tgz PackageFileSize: 4.292 MiB