Package: SpatialCPie Version: 1.25.0 Command: F:\biocbuild\bbs-3.22-bioc\R\bin\R.exe CMD check --no-multiarch --install=check:SpatialCPie.install-out.txt --library=F:\biocbuild\bbs-3.22-bioc\R\library --no-vignettes --timings SpatialCPie_1.25.0.tar.gz StartedAt: 2025-08-15 08:09:16 -0400 (Fri, 15 Aug 2025) EndedAt: 2025-08-15 08:12:48 -0400 (Fri, 15 Aug 2025) EllapsedTime: 211.9 seconds RetCode: 0 Status: OK CheckDir: SpatialCPie.Rcheck Warnings: 0