Package: SpatialCPie Version: 1.26.0 Command: /home/biocbuild/bbs-3.22-bioc/R/bin/R CMD INSTALL SpatialCPie StartedAt: 2025-10-31 15:25:36 -0400 (Fri, 31 Oct 2025) EndedAt: 2025-10-31 15:26:00 -0400 (Fri, 31 Oct 2025) EllapsedTime: 24.5 seconds RetCode: 0 Status: OK