Package: SparseArray Version: 1.10.1 Command: rm -rf SparseArray.buildbin-libdir && mkdir SparseArray.buildbin-libdir && /Users/biocbuild/BBS/utils/build-universal.sh SparseArray_1.10.1.tar.gz /Library/Frameworks/R.framework/Resources/bin/R SparseArray.buildbin-libdir StartedAt: 2025-11-04 02:05:56 -0500 (Tue, 04 Nov 2025) EndedAt: 2025-11-04 02:06:49 -0500 (Tue, 04 Nov 2025) EllapsedTime: 53.2 seconds RetCode: 0 Status: OK PackageFile: SparseArray_1.10.1.tgz PackageFileSize: 1.795 MiB