Package: SparseArray Version: 1.10.1 Command: /Library/Frameworks/R.framework/Resources/bin/R CMD build --keep-empty-dirs --no-resave-data SparseArray StartedAt: 2025-11-09 17:51:37 -0500 (Sun, 09 Nov 2025) EndedAt: 2025-11-09 17:51:59 -0500 (Sun, 09 Nov 2025) EllapsedTime: 22.3 seconds RetCode: 0 Status: OK PackageFile: SparseArray_1.10.1.tar.gz PackageFileSize: 460.2 KiB