Package: SparseArray Version: 1.10.1 Command: rm -rf SparseArray.buildbin-libdir && mkdir SparseArray.buildbin-libdir && /Users/biocbuild/BBS/utils/build-universal.sh SparseArray_1.10.1.tar.gz /Library/Frameworks/R.framework/Resources/bin/R SparseArray.buildbin-libdir StartedAt: 2025-11-09 23:25:52 -0500 (Sun, 09 Nov 2025) EndedAt: 2025-11-09 23:26:06 -0500 (Sun, 09 Nov 2025) EllapsedTime: 14.3 seconds RetCode: 0 Status: OK PackageFile: SparseArray_1.10.1.tgz PackageFileSize: 1.783 MiB