Back to Multiple platform build/check report for BioC 3.22:   simplified   long
ABCDEFGHIJKLMNOPQR[S]TUVWXYZ

This page was generated on 2025-11-07 12:00 -0500 (Fri, 07 Nov 2025).

HostnameOSArch (*)R versionInstalled pkgs
nebbiolo2Linux (Ubuntu 24.04.3 LTS)x86_644.5.1 Patched (2025-08-23 r88802) -- "Great Square Root" 4902
kjohnson3macOS 13.7.7 Venturaarm644.5.1 Patched (2025-09-10 r88807) -- "Great Square Root" 4638
Click on any hostname to see more info about the system (e.g. compilers)      (*) as reported by 'uname -p', except on Windows and Mac OS X

All results for package SparseArray


To the developers/maintainers of the SparseArray package:
- Allow up to 24 hours (and sometimes 48 hours) for your latest push to git@git.bioconductor.org:packages/SparseArray.git to reflect on this report. See Troubleshooting Build Report for more information.
- Use the following Renviron settings to reproduce errors and warnings.
- If 'R CMD check' started to fail recently on the Linux builder(s) over a missing dependency, add the missing dependency to 'Suggests:' in your DESCRIPTION file. See Renviron.bioc for more information.

raw results

Package 2072/2361HostnameOS / ArchINSTALLBUILDCHECKBUILD BIN
SparseArray 1.10.1  (landing page)
Hervé Pagès
Snapshot Date: 2025-11-06 13:45 -0500 (Thu, 06 Nov 2025)
git_url: https://git.bioconductor.org/packages/SparseArray
git_branch: RELEASE_3_22
git_last_commit: b457b3d
git_last_commit_date: 2025-10-31 00:21:39 -0500 (Fri, 31 Oct 2025)
nebbiolo2Linux (Ubuntu 24.04.3 LTS) / x86_64  OK    OK    OK  UNNEEDED, same version is already published
kjohnson3macOS 13.7.7 Ventura / arm64  OK    OK    OK    OK  UNNEEDED, same version is already published



Results for Bioconductor software packages that depend directly on package SparseArray

QUICK STATSOS / ArchINSTALLBUILDCHECKBUILD BIN
nebbiolo2Linux (Ubuntu 24.04.3 LTS) / x86_64
0020
0020
00515
kjohnson3macOS 13.7.7 Ventura / arm64
0020
0119
02512
0019
Package 1/20HostnameOS / ArchINSTALLBUILDCHECKBUILD BIN
alabaster.matrix 1.10.0  (landing page)
Aaron Lun
git_last_commit: 8892772
git_last_commit_date: 2025-10-29 11:21:14 -0500
nebbiolo2Linux (Ubuntu 24.04.3 LTS) / x86_64  OK    OK    OK  UNNEEDED, same version is already published
kjohnson3macOS 13.7.7 Ventura / arm64  OK    OK    OK    OK  UNNEEDED, same version is already published
Package 2/20HostnameOS / ArchINSTALLBUILDCHECKBUILD BIN
batchelor 1.26.0  (landing page)
Aaron Lun
git_last_commit: 8a9df0d
git_last_commit_date: 2025-10-29 10:51:04 -0500
nebbiolo2Linux (Ubuntu 24.04.3 LTS) / x86_64  OK    OK    OK  UNNEEDED, same version is already published
kjohnson3macOS 13.7.7 Ventura / arm64  OK    OK    OK    OK  UNNEEDED, same version is already published
Package 3/20HostnameOS / ArchINSTALLBUILDCHECKBUILD BIN
beachmat 2.26.0  (landing page)
Aaron Lun
git_last_commit: 016c55e
git_last_commit_date: 2025-10-29 10:39:35 -0500
nebbiolo2Linux (Ubuntu 24.04.3 LTS) / x86_64  OK    OK    OK  UNNEEDED, same version is already published
kjohnson3macOS 13.7.7 Ventura / arm64  OK    OK    OK    OK  UNNEEDED, same version is already published
Package 4/20HostnameOS / ArchINSTALLBUILDCHECKBUILD BIN
DelayedArray 0.36.0  (landing page)
Hervé Pagès
git_last_commit: adde054
git_last_commit_date: 2025-10-29 14:02:35 -0500
nebbiolo2Linux (Ubuntu 24.04.3 LTS) / x86_64  OK    OK    WARNINGS  UNNEEDED, same version is already published
kjohnson3macOS 13.7.7 Ventura / arm64  OK    OK    WARNINGS    OK  UNNEEDED, same version is already published
Package 5/20HostnameOS / ArchINSTALLBUILDCHECKBUILD BIN
DelayedMatrixStats 1.32.0  (landing page)
Peter Hickey
git_last_commit: cbf7d75
git_last_commit_date: 2025-10-29 10:41:36 -0500
nebbiolo2Linux (Ubuntu 24.04.3 LTS) / x86_64  OK    OK    OK  UNNEEDED, same version is already published
kjohnson3macOS 13.7.7 Ventura / arm64  OK    OK    OK    OK  UNNEEDED, same version is already published
Package 6/20HostnameOS / ArchINSTALLBUILDCHECKBUILD BIN
DelayedRandomArray 1.18.0  (landing page)
Aaron Lun
git_last_commit: a060a75
git_last_commit_date: 2025-10-29 11:08:35 -0500
nebbiolo2Linux (Ubuntu 24.04.3 LTS) / x86_64  OK    OK    OK  UNNEEDED, same version is already published
kjohnson3macOS 13.7.7 Ventura / arm64  OK    OK    OK    OK  UNNEEDED, same version is already published
Package 7/20HostnameOS / ArchINSTALLBUILDCHECKBUILD BIN
DelayedTensor 1.16.0  (landing page)
Koki Tsuyuzaki
git_last_commit: 363cba1
git_last_commit_date: 2025-10-29 11:10:14 -0500
nebbiolo2Linux (Ubuntu 24.04.3 LTS) / x86_64  OK    OK    WARNINGS  UNNEEDED, same version is already published
kjohnson3macOS 13.7.7 Ventura / arm64  OK    OK    WARNINGS    OK  UNNEEDED, same version is already published
Package 8/20HostnameOS / ArchINSTALLBUILDCHECKBUILD BIN
dreamlet 1.8.0  (landing page)
Gabriel Hoffman
git_last_commit: 1eb467d
git_last_commit_date: 2025-10-29 11:25:03 -0500
nebbiolo2Linux (Ubuntu 24.04.3 LTS) / x86_64  OK    OK    OK  UNNEEDED, same version is already published
kjohnson3macOS 13.7.7 Ventura / arm64  OK    OK    OK    OK  UNNEEDED, same version is already published
Package 9/20HostnameOS / ArchINSTALLBUILDCHECKBUILD BIN
DropletUtils 1.30.0  (landing page)
Jonathan Griffiths
git_last_commit: 6ef5eaa
git_last_commit_date: 2025-10-29 10:42:43 -0500
nebbiolo2Linux (Ubuntu 24.04.3 LTS) / x86_64  OK    OK    WARNINGS  UNNEEDED, same version is already published
kjohnson3macOS 13.7.7 Ventura / arm64  OK    OK    WARNINGS    OK  UNNEEDED, same version is already published
Package 10/20HostnameOS / ArchINSTALLBUILDCHECKBUILD BIN
glmGamPoi 1.22.0  (landing page)
Constantin Ahlmann-Eltze
git_last_commit: 908cde9
git_last_commit_date: 2025-10-29 10:58:15 -0500
nebbiolo2Linux (Ubuntu 24.04.3 LTS) / x86_64  OK    OK    WARNINGS  UNNEEDED, same version is already published
kjohnson3macOS 13.7.7 Ventura / arm64  OK    OK    WARNINGS    OK  UNNEEDED, same version is already published
Package 11/20HostnameOS / ArchINSTALLBUILDCHECKBUILD BIN
GSVA 2.4.1  (landing page)
Robert Castelo
git_last_commit: 441c638
git_last_commit_date: 2025-11-05 07:26:13 -0500
nebbiolo2Linux (Ubuntu 24.04.3 LTS) / x86_64  OK    OK    OK  UNNEEDED, same version is already published
kjohnson3macOS 13.7.7 Ventura / arm64  OK    OK    OK    OK  UNNEEDED, same version is already published
Package 12/20HostnameOS / ArchINSTALLBUILDCHECKBUILD BIN
h5mread 1.2.0  (landing page)
Hervé Pagès
git_last_commit: e2dfd60
git_last_commit_date: 2025-10-29 13:52:36 -0500
nebbiolo2Linux (Ubuntu 24.04.3 LTS) / x86_64  OK    OK    WARNINGS  UNNEEDED, same version is already published
kjohnson3macOS 13.7.7 Ventura / arm64  OK    OK    WARNINGS    OK  UNNEEDED, same version is already published
Package 13/20HostnameOS / ArchINSTALLBUILDCHECKBUILD BIN
HDF5Array 1.38.0  (landing page)
Hervé Pagès
git_last_commit: 9bca08f
git_last_commit_date: 2025-10-29 12:21:26 -0500
nebbiolo2Linux (Ubuntu 24.04.3 LTS) / x86_64  OK    OK    OK  UNNEEDED, same version is already published
kjohnson3macOS 13.7.7 Ventura / arm64  OK    OK    ERROR    OK  
Package 14/20HostnameOS / ArchINSTALLBUILDCHECKBUILD BIN
SCArray 1.18.0  (landing page)
Xiuwen Zheng
git_last_commit: f7d874a
git_last_commit_date: 2025-10-29 11:05:31 -0500
nebbiolo2Linux (Ubuntu 24.04.3 LTS) / x86_64  OK    OK    OK  UNNEEDED, same version is already published
kjohnson3macOS 13.7.7 Ventura / arm64  OK    OK    OK    OK  UNNEEDED, same version is already published
Package 15/20HostnameOS / ArchINSTALLBUILDCHECKBUILD BIN
scater 1.38.0  (landing page)
Alan O'Callaghan
git_last_commit: 64e2b5e
git_last_commit_date: 2025-10-29 10:30:01 -0500
nebbiolo2Linux (Ubuntu 24.04.3 LTS) / x86_64  OK    OK    OK  UNNEEDED, same version is already published
kjohnson3macOS 13.7.7 Ventura / arm64  OK    OK    ERROR    OK  
Package 16/20HostnameOS / ArchINSTALLBUILDCHECKBUILD BIN
scone 1.34.0  (landing page)
Davide Risso
git_last_commit: a2184ae
git_last_commit_date: 2025-10-29 10:36:05 -0500
nebbiolo2Linux (Ubuntu 24.04.3 LTS) / x86_64  OK    OK    OK  UNNEEDED, same version is already published
kjohnson3macOS 13.7.7 Ventura / arm64  OK    OK    OK    OK  UNNEEDED, same version is already published
Package 17/20HostnameOS / ArchINSTALLBUILDCHECKBUILD BIN
scuttle 1.20.0  (landing page)
Aaron Lun
git_last_commit: 2796dbd
git_last_commit_date: 2025-10-29 10:59:47 -0500
nebbiolo2Linux (Ubuntu 24.04.3 LTS) / x86_64  OK    OK    OK  UNNEEDED, same version is already published
kjohnson3macOS 13.7.7 Ventura / arm64  OK    OK    OK    OK  UNNEEDED, same version is already published
Package 18/20HostnameOS / ArchINSTALLBUILDCHECKBUILD BIN
TileDBArray 1.20.0  (landing page)
Aaron Lun
git_last_commit: e9b1538
git_last_commit_date: 2025-10-29 11:02:23 -0500
nebbiolo2Linux (Ubuntu 24.04.3 LTS) / x86_64  OK    OK    OK  UNNEEDED, same version is already published
kjohnson3macOS 13.7.7 Ventura / arm64  OK    OK    OK    OK  UNNEEDED, same version is already published
Package 19/20HostnameOS / ArchINSTALLBUILDCHECKBUILD BIN
TSCAN 1.48.0  (landing page)
Zhicheng Ji
git_last_commit: 7f095e0
git_last_commit_date: 2025-10-29 10:21:25 -0500
nebbiolo2Linux (Ubuntu 24.04.3 LTS) / x86_64  OK    OK    OK  UNNEEDED, same version is already published
kjohnson3macOS 13.7.7 Ventura / arm64  OK    OK    OK    OK  UNNEEDED, same version is already published
Package 20/20HostnameOS / ArchINSTALLBUILDCHECKBUILD BIN
zellkonverter 1.20.0  (landing page)
Luke Zappia
git_last_commit: cf55b0f
git_last_commit_date: 2025-10-29 11:01:36 -0500
nebbiolo2Linux (Ubuntu 24.04.3 LTS) / x86_64  OK    OK    OK  UNNEEDED, same version is already published
kjohnson3macOS 13.7.7 Ventura / arm64  OK    ERROR  skippedskipped