Package: Spaniel Version: 1.22.0 Command: /Library/Frameworks/R.framework/Resources/bin/R CMD INSTALL Spaniel StartedAt: 2025-10-13 18:16:49 -0400 (Mon, 13 Oct 2025) EndedAt: 2025-10-13 18:17:37 -0400 (Mon, 13 Oct 2025) EllapsedTime: 48.7 seconds RetCode: 0 Status: OK