Package: Spaniel Version: 1.22.0 Command: rm -rf Spaniel.buildbin-libdir && mkdir Spaniel.buildbin-libdir && /Users/biocbuild/BBS/utils/build-universal.sh Spaniel_1.22.0.tar.gz /Library/Frameworks/R.framework/Resources/bin/R Spaniel.buildbin-libdir StartedAt: 2025-10-15 20:37:39 -0400 (Wed, 15 Oct 2025) EndedAt: 2025-10-15 20:38:33 -0400 (Wed, 15 Oct 2025) EllapsedTime: 53.8 seconds RetCode: 0 Status: OK PackageFile: Spaniel_1.22.0.tgz PackageFileSize: 4.489 MiB