Package: SpaceTrooper Version: 1.0.0 Command: /home/biocbuild/R/R/bin/R CMD INSTALL SpaceTrooper StartedAt: 2025-11-20 22:47:11 -0000 (Thu, 20 Nov 2025) EndedAt: 2025-11-20 22:48:04 -0000 (Thu, 20 Nov 2025) EllapsedTime: 53.0 seconds RetCode: 0 Status: OK