Package: SpaceTrooper Version: 1.0.0 Command: /home/biocbuild/R/R/bin/R CMD build --keep-empty-dirs --no-resave-data SpaceTrooper StartedAt: 2025-11-18 05:16:06 -0000 (Tue, 18 Nov 2025) EndedAt: 2025-11-18 05:18:27 -0000 (Tue, 18 Nov 2025) EllapsedTime: 141.1 seconds RetCode: 0 Status: OK PackageFile: SpaceTrooper_1.0.0.tar.gz PackageFileSize: 3.488 MiB