Package: SpaceTrooper Version: 0.99.3 Command: F:\biocbuild\bbs-3.22-bioc\R\bin\R.exe CMD INSTALL SpaceTrooper StartedAt: 2025-08-14 16:58:05 -0400 (Thu, 14 Aug 2025) EndedAt: 2025-08-14 16:59:55 -0400 (Thu, 14 Aug 2025) EllapsedTime: 110.5 seconds RetCode: 0 Status: OK