Package: SpaceTrooper Version: 0.99.3 Command: chmod a+r SpaceTrooper -R && F:\biocbuild\bbs-3.22-bioc\R\bin\R.exe CMD build --keep-empty-dirs --no-resave-data SpaceTrooper StartedAt: 2025-08-14 23:24:41 -0400 (Thu, 14 Aug 2025) EndedAt: 2025-08-14 23:27:28 -0400 (Thu, 14 Aug 2025) EllapsedTime: 166.7 seconds RetCode: 0 Status: OK PackageFile: SpaceTrooper_0.99.3.tar.gz PackageFileSize: 3.643 MiB