Package: SpaceTrooper Version: 0.99.3 Command: rm -rf SpaceTrooper.buildbin-libdir && mkdir SpaceTrooper.buildbin-libdir && F:\biocbuild\bbs-3.22-bioc\R\bin\R.exe CMD INSTALL --build --library=SpaceTrooper.buildbin-libdir SpaceTrooper_0.99.3.tar.gz StartedAt: 2025-08-15 11:22:24 -0400 (Fri, 15 Aug 2025) EndedAt: 2025-08-15 11:24:06 -0400 (Fri, 15 Aug 2025) EllapsedTime: 102.7 seconds RetCode: 0 Status: OK PackageFile: SpaceTrooper_0.99.3.zip PackageFileSize: 3.78 MiB