Package: SpaceTrooper Version: 1.0.0 Command: /home/biocbuild/bbs-3.22-bioc/R/bin/R CMD build --keep-empty-dirs --no-resave-data --md5 SpaceTrooper StartedAt: 2025-11-17 23:37:23 -0500 (Mon, 17 Nov 2025) EndedAt: 2025-11-17 23:38:58 -0500 (Mon, 17 Nov 2025) EllapsedTime: 95.1 seconds RetCode: 0 Status: OK PackageFile: SpaceTrooper_1.0.0.tar.gz PackageFileSize: 4.503 MiB