Package: SpaceTrooper Version: 1.0.0 Command: /Library/Frameworks/R.framework/Resources/bin/R CMD INSTALL SpaceTrooper StartedAt: 2025-11-17 18:46:54 -0500 (Mon, 17 Nov 2025) EndedAt: 2025-11-17 18:48:23 -0500 (Mon, 17 Nov 2025) EllapsedTime: 88.2 seconds RetCode: 0 Status: OK