Package: SpaceTrooper Version: 1.0.0 Command: /Library/Frameworks/R.framework/Resources/bin/R CMD INSTALL SpaceTrooper StartedAt: 2025-11-17 18:27:27 -0500 (Mon, 17 Nov 2025) EndedAt: 2025-11-17 18:27:43 -0500 (Mon, 17 Nov 2025) EllapsedTime: 16.3 seconds RetCode: 0 Status: OK